BEGIN:VCALENDAR
VERSION:2.0
PRODID:spatie/icalendar-generator
DESCRIPTION:Events from Trax FM
X-WR-CALDESC:Events from Trax FM
REFRESH-INTERVAL;VALUE=DURATION:PT1440M
X-PUBLISHED-TTL:PT1440M
BEGIN:VTIMEZONE
TZID:Australia/Adelaide
BEGIN:DAYLIGHT
DTSTART:20251005T020000Z
TZOFFSETFROM:+0900
TZOFFSETTO:+1000
END:DAYLIGHT
BEGIN:STANDARD
DTSTART:20260405T030000Z
TZOFFSETFROM:+1000
TZOFFSETTO:+0900
END:STANDARD
BEGIN:DAYLIGHT
DTSTART:20261004T020000Z
TZOFFSETFROM:+0900
TZOFFSETTO:+1000
END:DAYLIGHT
END:VTIMEZONE
BEGIN:VTIMEZONE
TZID:UTC
BEGIN:STANDARD
DTSTART:20250728T170517Z
TZOFFSETFROM:+0000
TZOFFSETTO:+0000
END:STANDARD
END:VTIMEZONE
BEGIN:VEVENT
UID:339-234
DTSTAMP:20260424T170517Z
SUMMARY:Good Friday
LOCATION:
ORGANIZER;CN=Leslie:MAILTO:graham1074@gmail.com
DTSTART;TZID=Australia/Adelaide;VALUE=DATE:20260403
DTEND;TZID=Australia/Adelaide;VALUE=DATE:20260404
X-ALT-DESC;FMTTYPE=TEXT/HTML:
CATEGORIES:Holiday
URL;VALUE=URI:https://traxfm.org.au/mc-events/good-friday-5/
METHOD:PUBLISH
END:VEVENT
BEGIN:VEVENT
UID:343-238
DTSTAMP:20260424T170517Z
SUMMARY:Easter Saturday
LOCATION:
ORGANIZER;CN=Leslie:MAILTO:graham1074@gmail.com
DTSTART;TZID=Australia/Adelaide;VALUE=DATE:20260404
DTEND;TZID=Australia/Adelaide;VALUE=DATE:20260405
X-ALT-DESC;FMTTYPE=TEXT/HTML:
CATEGORIES:Holiday
URL;VALUE=URI:https://traxfm.org.au/mc-events/easter-saturday-2/
METHOD:PUBLISH
END:VEVENT
BEGIN:VEVENT
UID:340-235
DTSTAMP:20260424T170517Z
SUMMARY:Easter Monday
LOCATION:
ORGANIZER;CN=Leslie:MAILTO:graham1074@gmail.com
DTSTART;TZID=Australia/Adelaide;VALUE=DATE:20260406
DTEND;TZID=Australia/Adelaide;VALUE=DATE:20260407
X-ALT-DESC;FMTTYPE=TEXT/HTML:
CATEGORIES:Holiday
URL;VALUE=URI:https://traxfm.org.au/mc-events/easter-monday-5/
METHOD:PUBLISH
END:VEVENT
BEGIN:VEVENT
UID:336-233
DTSTAMP:20260424T170517Z
SUMMARY:Board meeting
LOCATION:
ORGANIZER;CN=Leslie:MAILTO:graham1074@gmail.com
RRULE:FREQ=MONTHLY;BYDAY=3WE;UNTIL=20260520T000000Z
DTSTART;TZID=Australia/Adelaide:20260415T190000
DTEND;TZID=Australia/Adelaide:20260415T200000
X-ALT-DESC;FMTTYPE=TEXT/HTML:7pm in the meeting room
CATEGORIES:Meeting
URL;VALUE=URI:https://traxfm.org.au/mc-events/board-meeting-31/?mc_id=336
METHOD:PUBLISH
END:VEVENT
BEGIN:VEVENT
UID:341-236
DTSTAMP:20260424T170517Z
SUMMARY:Anzac Day
LOCATION:
ORGANIZER;CN=Leslie:MAILTO:graham1074@gmail.com
DTSTART;TZID=Australia/Adelaide;VALUE=DATE:20260425
DTEND;TZID=Australia/Adelaide;VALUE=DATE:20260426
X-ALT-DESC;FMTTYPE=TEXT/HTML:
CATEGORIES:Holiday
URL;VALUE=URI:https://traxfm.org.au/mc-events/anzac-day-5/
METHOD:PUBLISH
END:VEVENT
END:VCALENDAR